BEGIN:VCALENDAR
VERSION:2.0
PRODID:-//horsealert.local//NONSGML kigkonsult.se iCalcreator 2.10.5//
CALSCALE:GREGORIAN
X-WR-TIMEZONE:Europe/Dublin
BEGIN:VTIMEZONE
TZID:Etc/GMT-1
BEGIN:STANDARD
DTSTART:20010101T000000
TZOFFSETFROM:+0100
TZOFFSETTO:+0100
TZNAME:GMT +01:00
END:STANDARD
END:VTIMEZONE
BEGIN:VEVENT
UID:20260422T091112CEST-6863dWB2BD@horsealert.local
DTSTAMP:20260422T070412Z
CATEGORIES:Horse Alerts
DESCRIPTION:Call Star Sports On 08000 521321 EBF Mares' 'National Hunt' Nov
 ices' Hurdle
DTSTART:20170122T130000
LOCATION:England
SUMMARY:Horse Racing:Call Star Sports On 08000 521321 EBF Mares' 'National 
 Hunt' Novices' Hurdle
END:VEVENT
END:VCALENDAR
