BEGIN:VCALENDAR
VERSION:2.0
PRODID:-//horsealert.local//NONSGML kigkonsult.se iCalcreator 2.10.5//
CALSCALE:GREGORIAN
X-WR-TIMEZONE:Europe/Dublin
BEGIN:VTIMEZONE
TZID:Etc/GMT-1
BEGIN:STANDARD
DTSTART:20010101T000000
TZOFFSETFROM:+0100
TZOFFSETTO:+0100
TZNAME:GMT +01:00
END:STANDARD
END:VTIMEZONE
BEGIN:VEVENT
UID:20260422T091141CEST-1100L4G9JP@horsealert.local
DTSTAMP:20260422T070441Z
CATEGORIES:Horse Alerts
DESCRIPTION:Coral.ie Hurdle (Extended Handicap Hurdle - Rated 0-150) (Grade
  B)
DTSTART:20170122T151000
LOCATION:Eire
SUMMARY:Horse Racing:Coral.ie Hurdle (Extended Handicap Hurdle - Rated 0-15
 0) (Grade B)
END:VEVENT
END:VCALENDAR
