BEGIN:VCALENDAR
VERSION:2.0
PRODID:-//horsealert.local//NONSGML kigkonsult.se iCalcreator 2.10.5//
CALSCALE:GREGORIAN
X-WR-TIMEZONE:Europe/Dublin
BEGIN:VTIMEZONE
TZID:Etc/GMT-1
BEGIN:STANDARD
DTSTART:20010101T000000
TZOFFSETFROM:+0100
TZOFFSETTO:+0100
TZNAME:GMT +01:00
END:STANDARD
END:VTIMEZONE
BEGIN:VEVENT
UID:20260422T091114CEST-3090JI6UkV@horsealert.local
DTSTAMP:20260422T070414Z
CATEGORIES:Horse Alerts
DESCRIPTION:Coral.ie 'Best Price Guaranteed On Irish Racing' Maiden Hurdle
DTSTART:20170122T134000
LOCATION:Eire
SUMMARY:Horse Racing:Coral.ie 'Best Price Guaranteed On Irish Racing' Maide
 n Hurdle
END:VEVENT
END:VCALENDAR
