BEGIN:VCALENDAR
VERSION:2.0
PRODID:-//horsealert.local//NONSGML kigkonsult.se iCalcreator 2.10.5//
CALSCALE:GREGORIAN
X-WR-TIMEZONE:Europe/Dublin
BEGIN:VTIMEZONE
TZID:Etc/GMT-1
BEGIN:STANDARD
DTSTART:20010101T000000
TZOFFSETFROM:+0100
TZOFFSETTO:+0100
TZNAME:GMT +01:00
END:STANDARD
END:VTIMEZONE
BEGIN:VEVENT
UID:20260422T090929CEST-5267wwIbuf@horsealert.local
DTSTAMP:20260422T070429Z
CATEGORIES:Horse Alerts
DESCRIPTION:Berkshire Community Foundation Clarence House Chase (Grade 1)
DTSTART:20170121T150000
LOCATION:England
SUMMARY:Horse Racing:Berkshire Community Foundation Clarence House Chase (G
 rade 1)
END:VEVENT
END:VCALENDAR
