BEGIN:VCALENDAR
VERSION:2.0
PRODID:-//horsealert.local//NONSGML kigkonsult.se iCalcreator 2.10.5//
CALSCALE:GREGORIAN
X-WR-TIMEZONE:Europe/Dublin
BEGIN:VTIMEZONE
TZID:Etc/GMT-1
BEGIN:STANDARD
DTSTART:20010101T000000
TZOFFSETFROM:+0100
TZOFFSETTO:+0100
TZNAME:GMT +01:00
END:STANDARD
END:VTIMEZONE
BEGIN:VEVENT
UID:20260422T091155CEST-4114N4aXcv@horsealert.local
DTSTAMP:20260422T070455Z
CATEGORIES:Horse Alerts
DESCRIPTION:Australian Open Tennis At 188Bet 'National Hunt' Novices' Hurdl
 e
DTSTART:20170120T134000
LOCATION:Wales
SUMMARY:Horse Racing:Australian Open Tennis At 188Bet 'National Hunt' Novic
 es' Hurdle
END:VEVENT
END:VCALENDAR
