BEGIN:VCALENDAR
VERSION:2.0
PRODID:-//horsealert.local//NONSGML kigkonsult.se iCalcreator 2.10.5//
CALSCALE:GREGORIAN
X-WR-TIMEZONE:Europe/Dublin
BEGIN:VTIMEZONE
TZID:Etc/GMT-1
BEGIN:STANDARD
DTSTART:20010101T000000
TZOFFSETFROM:+0100
TZOFFSETTO:+0100
TZNAME:GMT +01:00
END:STANDARD
END:VTIMEZONE
BEGIN:VEVENT
UID:20260422T091156CEST-4491m2Exuo@horsealert.local
DTSTAMP:20260422T070456Z
CATEGORIES:Horse Alerts
DESCRIPTION:Higos Insurance Services Street Chase (Novices' Limited Handica
 p)
DTSTART:20170119T144500
LOCATION:England
SUMMARY:Horse Racing:Higos Insurance Services Street Chase (Novices' Limite
 d Handicap)
END:VEVENT
END:VCALENDAR
