BEGIN:VCALENDAR
VERSION:2.0
PRODID:-//horsealert.local//NONSGML kigkonsult.se iCalcreator 2.10.5//
CALSCALE:GREGORIAN
X-WR-TIMEZONE:Europe/Dublin
BEGIN:VTIMEZONE
TZID:Etc/GMT-1
BEGIN:STANDARD
DTSTART:20010101T000000
TZOFFSETFROM:+0100
TZOFFSETTO:+0100
TZNAME:GMT +01:00
END:STANDARD
END:VTIMEZONE
BEGIN:VEVENT
UID:20260422T091314CEST-8055v927b7@horsealert.local
DTSTAMP:20260422T070414Z
CATEGORIES:Horse Alerts
DESCRIPTION:His Royal Highness The Prince Of Wales Challenge Trophy (Amateu
 r Riders' Handicap Chase)
DTSTART:20170119T153500
LOCATION:England
SUMMARY:Horse Racing:His Royal Highness The Prince Of Wales Challenge Troph
 y (Amateur Riders' Handicap Chase)
END:VEVENT
END:VCALENDAR
