BEGIN:VCALENDAR
VERSION:2.0
PRODID:-//horsealert.local//NONSGML kigkonsult.se iCalcreator 2.10.5//
CALSCALE:GREGORIAN
X-WR-TIMEZONE:Europe/Dublin
BEGIN:VTIMEZONE
TZID:Etc/GMT-1
BEGIN:STANDARD
DTSTART:20010101T000000
TZOFFSETFROM:+0100
TZOFFSETTO:+0100
TZNAME:GMT +01:00
END:STANDARD
END:VTIMEZONE
BEGIN:VEVENT
UID:20260422T091328CEST-5962A8aKCM@horsealert.local
DTSTAMP:20260422T070428Z
CATEGORIES:Horse Alerts
DESCRIPTION:Better Odds With Matchbook Betting Exchange Handicap
DTSTART:20170117T150500
LOCATION:England
SUMMARY:Horse Racing:Better Odds With Matchbook Betting Exchange Handicap
END:VEVENT
END:VCALENDAR
