BEGIN:VCALENDAR
VERSION:2.0
PRODID:-//horsealert.local//NONSGML kigkonsult.se iCalcreator 2.10.5//
CALSCALE:GREGORIAN
X-WR-TIMEZONE:Europe/Dublin
BEGIN:VTIMEZONE
TZID:Etc/GMT-1
BEGIN:STANDARD
DTSTART:20010101T000000
TZOFFSETFROM:+0100
TZOFFSETTO:+0100
TZNAME:GMT +01:00
END:STANDARD
END:VTIMEZONE
BEGIN:VEVENT
UID:20260422T091441CEST-0605c9STPX@horsealert.local
DTSTAMP:20260422T070441Z
CATEGORIES:Horse Alerts
DESCRIPTION:Book Now For Medieval Day - 4th February Handicap Chase (Qualif
 ier for the Northern Lights Middle Distance Chase Series)
DTSTART:20170114T152500
LOCATION:England
SUMMARY:Horse Racing:Book Now For Medieval Day - 4th February Handicap Chas
 e (Qualifier for the Northern Lights Middle Distance Chase Series)
END:VEVENT
END:VCALENDAR
