BEGIN:VCALENDAR
VERSION:2.0
PRODID:-//horsealert.local//NONSGML kigkonsult.se iCalcreator 2.10.5//
CALSCALE:GREGORIAN
X-WR-TIMEZONE:Europe/Dublin
BEGIN:VTIMEZONE
TZID:Etc/GMT-1
BEGIN:STANDARD
DTSTART:20010101T000000
TZOFFSETFROM:+0100
TZOFFSETTO:+0100
TZNAME:GMT +01:00
END:STANDARD
END:VTIMEZONE
BEGIN:VEVENT
UID:20260422T091315CEST-0078cFN7lz@horsealert.local
DTSTAMP:20260422T070415Z
CATEGORIES:Horse Alerts
DESCRIPTION:Malone & Sons EBF Mares' Standard NH Flat Race (Conditionals An
 d Amateurs)
DTSTART:20170107T152000
LOCATION:England
SUMMARY:Horse Racing:Malone & Sons EBF Mares' Standard NH Flat Race (Condit
 ionals And Amateurs)
END:VEVENT
END:VCALENDAR
