BEGIN:VCALENDAR
VERSION:2.0
PRODID:-//horsealert.local//NONSGML kigkonsult.se iCalcreator 2.10.5//
CALSCALE:GREGORIAN
X-WR-TIMEZONE:Europe/Dublin
BEGIN:VTIMEZONE
TZID:Etc/GMT-1
BEGIN:STANDARD
DTSTART:20010101T000000
TZOFFSETFROM:+0100
TZOFFSETTO:+0100
TZNAME:GMT +01:00
END:STANDARD
END:VTIMEZONE
BEGIN:VEVENT
UID:20260422T091307CEST-4464b34Dff@horsealert.local
DTSTAMP:20260422T070407Z
CATEGORIES:Horse Alerts
DESCRIPTION:Waterford & Tramore Racecourse Supporters Club Rated Novice Cha
 se
DTSTART:20170101T145000
LOCATION:Eire
SUMMARY:Horse Racing:Waterford & Tramore Racecourse Supporters Club Rated N
 ovice Chase
END:VEVENT
END:VCALENDAR
