BEGIN:VCALENDAR
VERSION:2.0
PRODID:-//horsealert.local//NONSGML kigkonsult.se iCalcreator 2.10.5//
CALSCALE:GREGORIAN
X-WR-TIMEZONE:Europe/Dublin
BEGIN:VTIMEZONE
TZID:Etc/GMT-1
BEGIN:STANDARD
DTSTART:20010101T000000
TZOFFSETFROM:+0100
TZOFFSETTO:+0100
TZNAME:GMT +01:00
END:STANDARD
END:VTIMEZONE
BEGIN:VEVENT
UID:20260422T104753CEST-4838vvp3S6@horsealert.local
DTSTAMP:20260422T080453Z
CATEGORIES:Horse Alerts
DESCRIPTION:Samantha & Rebecca's 18th Birthday Bash 'National Hunt' Maiden 
 Hurdle
DTSTART:20161229T120000
LOCATION:Scotland
SUMMARY:Horse Racing:Samantha & Rebecca's 18th Birthday Bash 'National Hunt
 ' Maiden Hurdle
END:VEVENT
END:VCALENDAR
