BEGIN:VCALENDAR
VERSION:2.0
PRODID:-//horsealert.local//NONSGML kigkonsult.se iCalcreator 2.10.5//
CALSCALE:GREGORIAN
X-WR-TIMEZONE:Europe/Dublin
BEGIN:VTIMEZONE
TZID:Etc/GMT-1
BEGIN:STANDARD
DTSTART:20010101T000000
TZOFFSETFROM:+0100
TZOFFSETTO:+0100
TZNAME:GMT +01:00
END:STANDARD
END:VTIMEZONE
BEGIN:VEVENT
UID:20260422T105109CEST-1614UxRdlS@horsealert.local
DTSTAMP:20260422T080409Z
CATEGORIES:Horse Alerts
DESCRIPTION:Sheffields Top Night At owlertonstadium 'National Hunt' Novices
 ' Hurdle
DTSTART:20161229T133000
LOCATION:England
SUMMARY:Horse Racing:Sheffields Top Night At owlertonstadium 'National Hunt
 ' Novices' Hurdle
END:VEVENT
END:VCALENDAR
