BEGIN:VCALENDAR
VERSION:2.0
PRODID:-//horsealert.local//NONSGML kigkonsult.se iCalcreator 2.10.5//
CALSCALE:GREGORIAN
X-WR-TIMEZONE:Europe/Dublin
BEGIN:VTIMEZONE
TZID:Etc/GMT-1
BEGIN:STANDARD
DTSTART:20010101T000000
TZOFFSETFROM:+0100
TZOFFSETTO:+0100
TZNAME:GMT +01:00
END:STANDARD
END:VTIMEZONE
BEGIN:VEVENT
UID:20260422T104754CEST-6415MtDIW0@horsealert.local
DTSTAMP:20260422T080454Z
CATEGORIES:Horse Alerts
DESCRIPTION:Top Oil E.B.F. Novice Handicap Hurdle (81-130)
DTSTART:20161229T150500
LOCATION:Eire
SUMMARY:Horse Racing:Top Oil E.B.F. Novice Handicap Hurdle (81-130)
END:VEVENT
END:VCALENDAR
