BEGIN:VCALENDAR
VERSION:2.0
PRODID:-//horsealert.local//NONSGML kigkonsult.se iCalcreator 2.10.5//
CALSCALE:GREGORIAN
X-WR-TIMEZONE:Europe/Dublin
BEGIN:VTIMEZONE
TZID:Etc/GMT-1
BEGIN:STANDARD
DTSTART:20010101T000000
TZOFFSETFROM:+0100
TZOFFSETTO:+0100
TZNAME:GMT +01:00
END:STANDARD
END:VTIMEZONE
BEGIN:VEVENT
UID:20260422T104643CEST-16356GB0Dt@horsealert.local
DTSTAMP:20260422T080443Z
CATEGORIES:Horse Alerts
DESCRIPTION:Racing Again New Year's Day Conditional Jockeys' Handicap Hurdl
 e
DTSTART:20161228T152000
LOCATION:England
SUMMARY:Horse Racing:Racing Again New Year's Day Conditional Jockeys' Handi
 cap Hurdle
END:VEVENT
END:VCALENDAR
