BEGIN:VCALENDAR
VERSION:2.0
PRODID:-//horsealert.local//NONSGML kigkonsult.se iCalcreator 2.10.5//
CALSCALE:GREGORIAN
X-WR-TIMEZONE:Europe/Dublin
BEGIN:VTIMEZONE
TZID:Etc/GMT-1
BEGIN:STANDARD
DTSTART:20010101T000000
TZOFFSETFROM:+0100
TZOFFSETTO:+0100
TZNAME:GMT +01:00
END:STANDARD
END:VTIMEZONE
BEGIN:VEVENT
UID:20260422T104809CEST-7923GtNlRD@horsealert.local
DTSTAMP:20260422T080409Z
CATEGORIES:Horse Alerts
DESCRIPTION:Russell's Big Five 0 Birthday Standard Open NH Flat Race
DTSTART:20161221T154000
LOCATION:England
SUMMARY:Horse Racing:Russell's Big Five 0 Birthday Standard Open NH Flat Ra
 ce
END:VEVENT
END:VCALENDAR
