BEGIN:VCALENDAR
VERSION:2.0
PRODID:-//horsealert.local//NONSGML kigkonsult.se iCalcreator 2.10.5//
CALSCALE:GREGORIAN
X-WR-TIMEZONE:Europe/Dublin
BEGIN:VTIMEZONE
TZID:Etc/GMT-1
BEGIN:STANDARD
DTSTART:20010101T000000
TZOFFSETFROM:+0100
TZOFFSETTO:+0100
TZNAME:GMT +01:00
END:STANDARD
END:VTIMEZONE
BEGIN:VEVENT
UID:20260422T105155CEST-5821oUk2wX@horsealert.local
DTSTAMP:20260422T080455Z
CATEGORIES:Horse Alerts
DESCRIPTION:Neptune Investment Management Championship Standard Open NH Fla
 t Race (Listed)
DTSTART:20161216T154000
LOCATION:England
SUMMARY:Horse Racing:Neptune Investment Management Championship Standard Op
 en NH Flat Race (Listed)
END:VEVENT
END:VCALENDAR
