BEGIN:VCALENDAR
VERSION:2.0
PRODID:-//horsealert.local//NONSGML kigkonsult.se iCalcreator 2.10.5//
CALSCALE:GREGORIAN
X-WR-TIMEZONE:Europe/Dublin
BEGIN:VTIMEZONE
TZID:Etc/GMT-1
BEGIN:STANDARD
DTSTART:20010101T000000
TZOFFSETFROM:+0100
TZOFFSETTO:+0100
TZNAME:GMT +01:00
END:STANDARD
END:VTIMEZONE
BEGIN:VEVENT
UID:20260422T105052CEST-5311mEP1WT@horsealert.local
DTSTAMP:20260422T080452Z
CATEGORIES:Horse Alerts
DESCRIPTION:Fund Raising Made Easy At Dundalk Handicap (45-75)
DTSTART:20161216T210000
LOCATION:Eire
SUMMARY:Horse Racing:Fund Raising Made Easy At Dundalk Handicap (45-75)
END:VEVENT
END:VCALENDAR
