BEGIN:VCALENDAR
VERSION:2.0
PRODID:-//horsealert.local//NONSGML kigkonsult.se iCalcreator 2.10.5//
CALSCALE:GREGORIAN
X-WR-TIMEZONE:Europe/Dublin
BEGIN:VTIMEZONE
TZID:Etc/GMT-1
BEGIN:STANDARD
DTSTART:20010101T000000
TZOFFSETFROM:+0100
TZOFFSETTO:+0100
TZNAME:GMT +01:00
END:STANDARD
END:VTIMEZONE
BEGIN:VEVENT
UID:20260422T105104CEST-5848MV9PwV@horsealert.local
DTSTAMP:20260422T080404Z
CATEGORIES:Horse Alerts
DESCRIPTION:At totepool Tweet Us With Your toteELFIE Handicap Chase
DTSTART:20161215T134000
LOCATION:England
SUMMARY:Horse Racing:At totepool Tweet Us With Your toteELFIE Handicap Chas
 e
END:VEVENT
END:VCALENDAR
