BEGIN:VCALENDAR
VERSION:2.0
PRODID:-//horsealert.local//NONSGML kigkonsult.se iCalcreator 2.10.5//
CALSCALE:GREGORIAN
X-WR-TIMEZONE:Europe/Dublin
BEGIN:VTIMEZONE
TZID:Etc/GMT-1
BEGIN:STANDARD
DTSTART:20010101T000000
TZOFFSETFROM:+0100
TZOFFSETTO:+0100
TZNAME:GMT +01:00
END:STANDARD
END:VTIMEZONE
BEGIN:VEVENT
UID:20260422T104355CEST-7132gjMjcN@horsealert.local
DTSTAMP:20260422T080455Z
CATEGORIES:Horse Alerts
DESCRIPTION:TBA Serena Gabriella Cruz Hll Mares' Handicap Hurdle (Qualifier
  for The Challenger Mares' Hurdle Series Final)
DTSTART:20161211T142500
LOCATION:England
SUMMARY:Horse Racing:TBA Serena Gabriella Cruz Hll Mares' Handicap Hurdle (
 Qualifier for The Challenger Mares' Hurdle Series Final)
END:VEVENT
END:VCALENDAR
