BEGIN:VCALENDAR
VERSION:2.0
PRODID:-//horsealert.local//NONSGML kigkonsult.se iCalcreator 2.10.5//
CALSCALE:GREGORIAN
X-WR-TIMEZONE:Europe/Dublin
BEGIN:VTIMEZONE
TZID:Etc/GMT-1
BEGIN:STANDARD
DTSTART:20010101T000000
TZOFFSETFROM:+0100
TZOFFSETTO:+0100
TZNAME:GMT +01:00
END:STANDARD
END:VTIMEZONE
BEGIN:VEVENT
UID:20260422T104926CEST-5565H0dAgZ@horsealert.local
DTSTAMP:20260422T080426Z
CATEGORIES:Horse Alerts
DESCRIPTION:Pinnacle Racing 'Like' Us On Facebook Handicap (Div 1)
DTSTART:20161210T125000
LOCATION:England
SUMMARY:Horse Racing:Pinnacle Racing 'Like' Us On Facebook Handicap (Div 1)
END:VEVENT
END:VCALENDAR
