BEGIN:VCALENDAR
VERSION:2.0
PRODID:-//horsealert.local//NONSGML kigkonsult.se iCalcreator 2.10.5//
CALSCALE:GREGORIAN
X-WR-TIMEZONE:Europe/Dublin
BEGIN:VTIMEZONE
TZID:Etc/GMT-1
BEGIN:STANDARD
DTSTART:20010101T000000
TZOFFSETFROM:+0100
TZOFFSETTO:+0100
TZNAME:GMT +01:00
END:STANDARD
END:VTIMEZONE
BEGIN:VEVENT
UID:20260422T104631CEST-61776KcuVI@horsealert.local
DTSTAMP:20260422T080431Z
CATEGORIES:Horse Alerts
DESCRIPTION:Crowne Plaza Leading Jockey & Trainer Championship Apprentice H
 andicap (45-65) (Div 1)
DTSTART:20161209T193500
LOCATION:Eire
SUMMARY:Horse Racing:Crowne Plaza Leading Jockey & Trainer Championship App
 rentice Handicap (45-65) (Div 1)
END:VEVENT
END:VCALENDAR
