BEGIN:VCALENDAR
VERSION:2.0
PRODID:-//horsealert.local//NONSGML kigkonsult.se iCalcreator 2.10.5//
CALSCALE:GREGORIAN
X-WR-TIMEZONE:Europe/Dublin
BEGIN:VTIMEZONE
TZID:Etc/GMT-1
BEGIN:STANDARD
DTSTART:20010101T000000
TZOFFSETFROM:+0100
TZOFFSETTO:+0100
TZNAME:GMT +01:00
END:STANDARD
END:VTIMEZONE
BEGIN:VEVENT
UID:20260422T104608CEST-9034abLUEJ@horsealert.local
DTSTAMP:20260422T080408Z
CATEGORIES:Horse Alerts
DESCRIPTION:Christmas Racemeeting Tuesday 20th December 'Newcomers' Standar
 d Open NH Flat Race
DTSTART:20161208T155000
LOCATION:England
SUMMARY:Horse Racing:Christmas Racemeeting Tuesday 20th December 'Newcomers
 ' Standard Open NH Flat Race
END:VEVENT
END:VCALENDAR
