BEGIN:VCALENDAR
VERSION:2.0
PRODID:-//horsealert.local//NONSGML kigkonsult.se iCalcreator 2.10.5//
CALSCALE:GREGORIAN
X-WR-TIMEZONE:Europe/Dublin
BEGIN:VTIMEZONE
TZID:Etc/GMT-1
BEGIN:STANDARD
DTSTART:20010101T000000
TZOFFSETFROM:+0100
TZOFFSETTO:+0100
TZNAME:GMT +01:00
END:STANDARD
END:VTIMEZONE
BEGIN:VEVENT
UID:20260422T105132CEST-12519O4KIu@horsealert.local
DTSTAMP:20260422T080432Z
CATEGORIES:Horse Alerts
DESCRIPTION:Scotty Brand Veterans' Handicap Chase (Last Qualifying Leg Of T
 he 2016 Veterans' Chase Series)
DTSTART:20161204T145000
LOCATION:Scotland
SUMMARY:Horse Racing:Scotty Brand Veterans' Handicap Chase (Last Qualifying
  Leg Of The 2016 Veterans' Chase Series)
END:VEVENT
END:VCALENDAR
