BEGIN:VCALENDAR
VERSION:2.0
PRODID:-//horsealert.local//NONSGML kigkonsult.se iCalcreator 2.10.5//
CALSCALE:GREGORIAN
X-WR-TIMEZONE:Europe/Dublin
BEGIN:VTIMEZONE
TZID:Etc/GMT-1
BEGIN:STANDARD
DTSTART:20010101T000000
TZOFFSETFROM:+0100
TZOFFSETTO:+0100
TZNAME:GMT +01:00
END:STANDARD
END:VTIMEZONE
BEGIN:VEVENT
UID:20260422T105108CEST-74985unoE3@horsealert.local
DTSTAMP:20260422T080408Z
CATEGORIES:Horse Alerts
DESCRIPTION:Betfred Becher Handicap Chase (Grade 3) (National Course)
DTSTART:20161203T133500
LOCATION:England
SUMMARY:Horse Racing:Betfred Becher Handicap Chase (Grade 3) (National Cour
 se)
END:VEVENT
END:VCALENDAR
