BEGIN:VCALENDAR
VERSION:2.0
PRODID:-//horsealert.local//NONSGML kigkonsult.se iCalcreator 2.10.5//
CALSCALE:GREGORIAN
X-WR-TIMEZONE:Europe/Dublin
BEGIN:VTIMEZONE
TZID:Etc/GMT-1
BEGIN:STANDARD
DTSTART:20010101T000000
TZOFFSETFROM:+0100
TZOFFSETTO:+0100
TZNAME:GMT +01:00
END:STANDARD
END:VTIMEZONE
BEGIN:VEVENT
UID:20260422T104920CEST-7363Df00FK@horsealert.local
DTSTAMP:20260422T080420Z
CATEGORIES:Horse Alerts
DESCRIPTION:Shannon Airport Christmas Racing Festival 26th-29th December Ha
 ndicap Hurdle (80-123)
DTSTART:20161202T132000
LOCATION:Eire
SUMMARY:Horse Racing:Shannon Airport Christmas Racing Festival 26th-29th De
 cember Handicap Hurdle (80-123)
END:VEVENT
END:VCALENDAR
