BEGIN:VCALENDAR
VERSION:2.0
PRODID:-//horsealert.local//NONSGML kigkonsult.se iCalcreator 2.10.5//
CALSCALE:GREGORIAN
X-WR-TIMEZONE:Europe/Dublin
BEGIN:VTIMEZONE
TZID:Etc/GMT-1
BEGIN:STANDARD
DTSTART:20010101T000000
TZOFFSETFROM:+0100
TZOFFSETTO:+0100
TZNAME:GMT +01:00
END:STANDARD
END:VTIMEZONE
BEGIN:VEVENT
UID:20260422T120651CEST-4314n5XEav@horsealert.local
DTSTAMP:20260422T100451Z
CATEGORIES:Horse Alerts
DESCRIPTION:Julie Hayes 40th/Rebecca Jones 18th Birthdays Mares' 'National 
 Hunt' Novices' Hurdle
DTSTART:20161126T132000
LOCATION:England
SUMMARY:Horse Racing:Julie Hayes 40th/Rebecca Jones 18th Birthdays Mares' '
 National Hunt' Novices' Hurdle
END:VEVENT
END:VCALENDAR
