BEGIN:VCALENDAR
VERSION:2.0
PRODID:-//horsealert.local//NONSGML kigkonsult.se iCalcreator 2.10.5//
CALSCALE:GREGORIAN
X-WR-TIMEZONE:Europe/Dublin
BEGIN:VTIMEZONE
TZID:Etc/GMT-1
BEGIN:STANDARD
DTSTART:20010101T000000
TZOFFSETFROM:+0100
TZOFFSETTO:+0100
TZNAME:GMT +01:00
END:STANDARD
END:VTIMEZONE
BEGIN:VEVENT
UID:20260422T120824CEST-9792CEtoMz@horsealert.local
DTSTAMP:20260422T100424Z
CATEGORIES:Horse Alerts
DESCRIPTION:Cadbury Delicious Flake 99 Handicap Hurdle
DTSTART:20161125T151000
LOCATION:England
SUMMARY:Horse Racing:Cadbury Delicious Flake 99 Handicap Hurdle
END:VEVENT
END:VCALENDAR
