BEGIN:VCALENDAR
VERSION:2.0
PRODID:-//horsealert.local//NONSGML kigkonsult.se iCalcreator 2.10.5//
CALSCALE:GREGORIAN
X-WR-TIMEZONE:Europe/Dublin
BEGIN:VTIMEZONE
TZID:Etc/GMT-1
BEGIN:STANDARD
DTSTART:20010101T000000
TZOFFSETFROM:+0100
TZOFFSETTO:+0100
TZNAME:GMT +01:00
END:STANDARD
END:VTIMEZONE
BEGIN:VEVENT
UID:20260422T120851CEST-3132VT2Fua@horsealert.local
DTSTAMP:20260422T100451Z
CATEGORIES:Horse Alerts
DESCRIPTION:Seven Barrows Supports 'Captain Starlight' Network Handicap Cha
 se
DTSTART:20161121T143500
LOCATION:England
SUMMARY:Horse Racing:Seven Barrows Supports 'Captain Starlight' Network Han
 dicap Chase
END:VEVENT
END:VCALENDAR
