BEGIN:VCALENDAR
VERSION:2.0
PRODID:-//horsealert.local//NONSGML kigkonsult.se iCalcreator 2.10.5//
CALSCALE:GREGORIAN
X-WR-TIMEZONE:Europe/Dublin
BEGIN:VTIMEZONE
TZID:Etc/GMT-1
BEGIN:STANDARD
DTSTART:20010101T000000
TZOFFSETFROM:+0100
TZOFFSETTO:+0100
TZNAME:GMT +01:00
END:STANDARD
END:VTIMEZONE
BEGIN:VEVENT
UID:20260422T120435CEST-0474M7K6S7@horsealert.local
DTSTAMP:20260422T100435Z
CATEGORIES:Horse Alerts
DESCRIPTION:totepoolracing Follow Us On Twitter Nursery
DTSTART:20161121T142500
LOCATION:England
SUMMARY:Horse Racing:totepoolracing Follow Us On Twitter Nursery
END:VEVENT
END:VCALENDAR
