BEGIN:VCALENDAR
VERSION:2.0
PRODID:-//horsealert.local//NONSGML kigkonsult.se iCalcreator 2.10.5//
CALSCALE:GREGORIAN
X-WR-TIMEZONE:Europe/Dublin
BEGIN:VTIMEZONE
TZID:Etc/GMT-1
BEGIN:STANDARD
DTSTART:20010101T000000
TZOFFSETFROM:+0100
TZOFFSETTO:+0100
TZNAME:GMT +01:00
END:STANDARD
END:VTIMEZONE
BEGIN:VEVENT
UID:20260422T120607CEST-3932F9ad8h@horsealert.local
DTSTAMP:20260422T100407Z
CATEGORIES:Horse Alerts
DESCRIPTION:Peter Laflin 60th Birthday Celebration 'National Hunt' Maiden H
 urdle
DTSTART:20161119T123500
LOCATION:England
SUMMARY:Horse Racing:Peter Laflin 60th Birthday Celebration 'National Hunt'
  Maiden Hurdle
END:VEVENT
END:VCALENDAR
