BEGIN:VCALENDAR
VERSION:2.0
PRODID:-//horsealert.local//NONSGML kigkonsult.se iCalcreator 2.10.5//
CALSCALE:GREGORIAN
X-WR-TIMEZONE:Europe/Dublin
BEGIN:VTIMEZONE
TZID:Etc/GMT-1
BEGIN:STANDARD
DTSTART:20010101T000000
TZOFFSETFROM:+0100
TZOFFSETTO:+0100
TZNAME:GMT +01:00
END:STANDARD
END:VTIMEZONE
BEGIN:VEVENT
UID:20260422T120436CEST-7734ZtvMJo@horsealert.local
DTSTAMP:20260422T100436Z
CATEGORIES:Horse Alerts
DESCRIPTION:Collect totepool Winnings At Betfred Shops Mares' Standard Open
  NH Flat Race
DTSTART:20161118T160500
LOCATION:Wales
SUMMARY:Horse Racing:Collect totepool Winnings At Betfred Shops Mares' Stan
 dard Open NH Flat Race
END:VEVENT
END:VCALENDAR
