BEGIN:VCALENDAR
VERSION:2.0
PRODID:-//horsealert.local//NONSGML kigkonsult.se iCalcreator 2.10.5//
CALSCALE:GREGORIAN
X-WR-TIMEZONE:Europe/Dublin
BEGIN:VTIMEZONE
TZID:Etc/GMT-1
BEGIN:STANDARD
DTSTART:20010101T000000
TZOFFSETFROM:+0100
TZOFFSETTO:+0100
TZNAME:GMT +01:00
END:STANDARD
END:VTIMEZONE
BEGIN:VEVENT
UID:20260422T120655CEST-4717EZCVUU@horsealert.local
DTSTAMP:20260422T100455Z
CATEGORIES:Horse Alerts
DESCRIPTION:Fairyhouse Membership 2017 Now Available Mares Maiden Hurdle
DTSTART:20161116T124000
LOCATION:Eire
SUMMARY:Horse Racing:Fairyhouse Membership 2017 Now Available Mares Maiden 
 Hurdle
END:VEVENT
END:VCALENDAR
