BEGIN:VCALENDAR
VERSION:2.0
PRODID:-//horsealert.local//NONSGML kigkonsult.se iCalcreator 2.10.5//
CALSCALE:GREGORIAN
X-WR-TIMEZONE:Europe/Dublin
BEGIN:VTIMEZONE
TZID:Etc/GMT-1
BEGIN:STANDARD
DTSTART:20010101T000000
TZOFFSETFROM:+0100
TZOFFSETTO:+0100
TZNAME:GMT +01:00
END:STANDARD
END:VTIMEZONE
BEGIN:VEVENT
UID:20260422T120654CEST-3582jRPu9u@horsealert.local
DTSTAMP:20260422T100454Z
CATEGORIES:Horse Alerts
DESCRIPTION:High Sheriff Of Gloucestershire's Mares' Standard Open NH Flat 
 Race (Listed)
DTSTART:20161112T160500
LOCATION:England
SUMMARY:Horse Racing:High Sheriff Of Gloucestershire's Mares' Standard Open
  NH Flat Race (Listed)
END:VEVENT
END:VCALENDAR
