BEGIN:VCALENDAR
VERSION:2.0
PRODID:-//horsealert.local//NONSGML kigkonsult.se iCalcreator 2.10.5//
CALSCALE:GREGORIAN
X-WR-TIMEZONE:Europe/Dublin
BEGIN:VTIMEZONE
TZID:Etc/GMT-1
BEGIN:STANDARD
DTSTART:20010101T000000
TZOFFSETFROM:+0100
TZOFFSETTO:+0100
TZNAME:GMT +01:00
END:STANDARD
END:VTIMEZONE
BEGIN:VEVENT
UID:20260422T120848CEST-7863952cZu@horsealert.local
DTSTAMP:20260422T100448Z
CATEGORIES:Horse Alerts
DESCRIPTION:British Stallion Studs EBF 'National Hunt' Novices' Hurdle (EBF
  'National Hunt' Novice Hurdle Race Series Qualifier)
DTSTART:20161108T130000
LOCATION:England
SUMMARY:Horse Racing:British Stallion Studs EBF 'National Hunt' Novices' Hu
 rdle (EBF 'National Hunt' Novice Hurdle Race Series Qualifier)
END:VEVENT
END:VCALENDAR
