BEGIN:VCALENDAR
VERSION:2.0
PRODID:-//horsealert.local//NONSGML kigkonsult.se iCalcreator 2.10.5//
CALSCALE:GREGORIAN
X-WR-TIMEZONE:Europe/Dublin
BEGIN:VTIMEZONE
TZID:Etc/GMT-1
BEGIN:STANDARD
DTSTART:20010101T000000
TZOFFSETFROM:+0100
TZOFFSETTO:+0100
TZNAME:GMT +01:00
END:STANDARD
END:VTIMEZONE
BEGIN:VEVENT
UID:20260422T120422CEST-9194xa4vhF@horsealert.local
DTSTAMP:20260422T100422Z
CATEGORIES:Horse Alerts
DESCRIPTION:Bar Beyond In The Gate Handicap
DTSTART:20161108T174500
LOCATION:England
SUMMARY:Horse Racing:Bar Beyond In The Gate Handicap
END:VEVENT
END:VCALENDAR
