BEGIN:VCALENDAR
VERSION:2.0
PRODID:-//horsealert.local//NONSGML kigkonsult.se iCalcreator 2.10.5//
CALSCALE:GREGORIAN
X-WR-TIMEZONE:Europe/Dublin
BEGIN:VTIMEZONE
TZID:Etc/GMT-1
BEGIN:STANDARD
DTSTART:20010101T000000
TZOFFSETFROM:+0100
TZOFFSETTO:+0100
TZNAME:GMT +01:00
END:STANDARD
END:VTIMEZONE
BEGIN:VEVENT
UID:20260422T120651CEST-02471UmuF6@horsealert.local
DTSTAMP:20260422T100451Z
CATEGORIES:Horse Alerts
DESCRIPTION:Marie Keating Foundation Fundraising Day At Fairyhouse November
  16th Beginners Chase
DTSTART:20161107T125000
LOCATION:Eire
SUMMARY:Horse Racing:Marie Keating Foundation Fundraising Day At Fairyhouse
  November 16th Beginners Chase
END:VEVENT
END:VCALENDAR
