BEGIN:VCALENDAR
VERSION:2.0
PRODID:-//horsealert.local//NONSGML kigkonsult.se iCalcreator 2.10.5//
CALSCALE:GREGORIAN
X-WR-TIMEZONE:Europe/Dublin
BEGIN:VTIMEZONE
TZID:Etc/GMT-1
BEGIN:STANDARD
DTSTART:20010101T000000
TZOFFSETFROM:+0100
TZOFFSETTO:+0100
TZNAME:GMT +01:00
END:STANDARD
END:VTIMEZONE
BEGIN:VEVENT
UID:20260422T120656CEST-3802noH44c@horsealert.local
DTSTAMP:20260422T100456Z
CATEGORIES:Horse Alerts
DESCRIPTION:Racing UK HD On Sky432 Veterans' Handicap Chase (Qualifier)
DTSTART:20161106T152500
LOCATION:England
SUMMARY:Horse Racing:Racing UK HD On Sky432 Veterans' Handicap Chase (Quali
 fier)
END:VEVENT
END:VCALENDAR
