BEGIN:VCALENDAR
VERSION:2.0
PRODID:-//horsealert.local//NONSGML kigkonsult.se iCalcreator 2.10.5//
CALSCALE:GREGORIAN
X-WR-TIMEZONE:Europe/Dublin
BEGIN:VTIMEZONE
TZID:Etc/GMT-1
BEGIN:STANDARD
DTSTART:20010101T000000
TZOFFSETFROM:+0100
TZOFFSETTO:+0100
TZNAME:GMT +01:00
END:STANDARD
END:VTIMEZONE
BEGIN:VEVENT
UID:20260422T120434CEST-7426sAVXo3@horsealert.local
DTSTAMP:20260422T100434Z
CATEGORIES:Horse Alerts
DESCRIPTION:Watch Racinguk With Free Trial Now Intermediate Open NH Flat Ra
 ce
DTSTART:20161105T155500
LOCATION:England
SUMMARY:Horse Racing:Watch Racinguk With Free Trial Now Intermediate Open N
 H Flat Race
END:VEVENT
END:VCALENDAR
