BEGIN:VCALENDAR
VERSION:2.0
PRODID:-//horsealert.local//NONSGML kigkonsult.se iCalcreator 2.10.5//
CALSCALE:GREGORIAN
X-WR-TIMEZONE:Europe/Dublin
BEGIN:VTIMEZONE
TZID:Etc/GMT-1
BEGIN:STANDARD
DTSTART:20010101T000000
TZOFFSETFROM:+0100
TZOFFSETTO:+0100
TZNAME:GMT +01:00
END:STANDARD
END:VTIMEZONE
BEGIN:VEVENT
UID:20260422T120653CEST-9558c4a6Bg@horsealert.local
DTSTAMP:20260422T100453Z
CATEGORIES:Horse Alerts
DESCRIPTION:Courtyard Hotel Leixlip Supporting Kildare GAA (Pro/Am) Flat Ra
 ce
DTSTART:20161106T160500
LOCATION:Eire
SUMMARY:Horse Racing:Courtyard Hotel Leixlip Supporting Kildare GAA (Pro/Am
 ) Flat Race
END:VEVENT
END:VCALENDAR
