BEGIN:VCALENDAR
VERSION:2.0
PRODID:-//horsealert.local//NONSGML kigkonsult.se iCalcreator 2.10.5//
CALSCALE:GREGORIAN
X-WR-TIMEZONE:Europe/Dublin
BEGIN:VTIMEZONE
TZID:Etc/GMT-1
BEGIN:STANDARD
DTSTART:20010101T000000
TZOFFSETFROM:+0100
TZOFFSETTO:+0100
TZNAME:GMT +01:00
END:STANDARD
END:VTIMEZONE
BEGIN:VEVENT
UID:20260422T120422CEST-0059V8OeM4@horsealert.local
DTSTAMP:20260422T100422Z
CATEGORIES:Horse Alerts
DESCRIPTION:Betfred TV EBF Stallions Breeding Winners Gillies Fillies' Stak
 es (Listed)
DTSTART:20161105T150000
LOCATION:England
SUMMARY:Horse Racing:Betfred TV EBF Stallions Breeding Winners Gillies Fill
 ies' Stakes (Listed)
END:VEVENT
END:VCALENDAR
