BEGIN:VCALENDAR
VERSION:2.0
PRODID:-//horsealert.local//NONSGML kigkonsult.se iCalcreator 2.10.5//
CALSCALE:GREGORIAN
X-WR-TIMEZONE:Europe/Dublin
BEGIN:VTIMEZONE
TZID:Etc/GMT-1
BEGIN:STANDARD
DTSTART:20010101T000000
TZOFFSETFROM:+0100
TZOFFSETTO:+0100
TZNAME:GMT +01:00
END:STANDARD
END:VTIMEZONE
BEGIN:VEVENT
UID:20260422T120413CEST-0365JO3KUU@horsealert.local
DTSTAMP:20260422T100413Z
CATEGORIES:Horse Alerts
DESCRIPTION:Bud Booth Mares' Chase (Listed)
DTSTART:20161103T144500
LOCATION:England
SUMMARY:Horse Racing:Bud Booth Mares' Chase (Listed)
END:VEVENT
END:VCALENDAR
