BEGIN:VCALENDAR
VERSION:2.0
PRODID:-//horsealert.local//NONSGML kigkonsult.se iCalcreator 2.10.5//
CALSCALE:GREGORIAN
X-WR-TIMEZONE:Europe/Dublin
BEGIN:VTIMEZONE
TZID:Etc/GMT-1
BEGIN:STANDARD
DTSTART:20010101T000000
TZOFFSETFROM:+0100
TZOFFSETTO:+0100
TZNAME:GMT +01:00
END:STANDARD
END:VTIMEZONE
BEGIN:VEVENT
UID:20260422T120425CEST-2735oBIsuZ@horsealert.local
DTSTAMP:20260422T100425Z
CATEGORIES:Horse Alerts
DESCRIPTION:SSAFA The Armed Forces Charity Intermediate Open NH Flat Race
DTSTART:20161102T162000
LOCATION:Wales
SUMMARY:Horse Racing:SSAFA The Armed Forces Charity Intermediate Open NH Fl
 at Race
END:VEVENT
END:VCALENDAR
