BEGIN:VCALENDAR
VERSION:2.0
PRODID:-//horsealert.local//NONSGML kigkonsult.se iCalcreator 2.10.5//
CALSCALE:GREGORIAN
X-WR-TIMEZONE:Europe/Dublin
BEGIN:VTIMEZONE
TZID:Etc/GMT-1
BEGIN:STANDARD
DTSTART:20010101T000000
TZOFFSETFROM:+0100
TZOFFSETTO:+0100
TZNAME:GMT +01:00
END:STANDARD
END:VTIMEZONE
BEGIN:VEVENT
UID:20260422T120822CEST-8419SnG0Vd@horsealert.local
DTSTAMP:20260422T100422Z
CATEGORIES:Horse Alerts
DESCRIPTION:B&M Installations Maiden Stakes (Div 2)
DTSTART:20161102T132000
LOCATION:England
SUMMARY:Horse Racing:B&M Installations Maiden Stakes (Div 2)
END:VEVENT
END:VCALENDAR
