BEGIN:VCALENDAR
VERSION:2.0
PRODID:-//horsealert.local//NONSGML kigkonsult.se iCalcreator 2.10.5//
CALSCALE:GREGORIAN
X-WR-TIMEZONE:Europe/Dublin
BEGIN:VTIMEZONE
TZID:Etc/GMT-1
BEGIN:STANDARD
DTSTART:20010101T000000
TZOFFSETFROM:+0100
TZOFFSETTO:+0100
TZNAME:GMT +01:00
END:STANDARD
END:VTIMEZONE
BEGIN:VEVENT
UID:20260422T133756CEST-12757KgkkC@horsealert.local
DTSTAMP:20260422T110456Z
CATEGORIES:Horse Alerts
DESCRIPTION:Breeders' Cup Live On At The Races Mares' Novices' Hurdle
DTSTART:20161031T141000
LOCATION:England
SUMMARY:Horse Racing:Breeders' Cup Live On At The Races Mares' Novices' Hur
 dle
END:VEVENT
END:VCALENDAR
