BEGIN:VCALENDAR
VERSION:2.0
PRODID:-//horsealert.local//NONSGML kigkonsult.se iCalcreator 2.10.5//
CALSCALE:GREGORIAN
X-WR-TIMEZONE:Europe/Dublin
BEGIN:VTIMEZONE
TZID:Etc/GMT-1
BEGIN:STANDARD
DTSTART:20010101T000000
TZOFFSETFROM:+0100
TZOFFSETTO:+0100
TZNAME:GMT +01:00
END:STANDARD
END:VTIMEZONE
BEGIN:VEVENT
UID:20260422T133318CEST-0941PreUTn@horsealert.local
DTSTAMP:20260422T110418Z
CATEGORIES:Horse Alerts
DESCRIPTION:Collect Any totepool Winnings At Betfred Shops Handicap (Div 1)
DTSTART:20161029T204000
LOCATION:England
SUMMARY:Horse Racing:Collect Any totepool Winnings At Betfred Shops Handica
 p (Div 1)
END:VEVENT
END:VCALENDAR
