BEGIN:VCALENDAR
VERSION:2.0
PRODID:-//horsealert.local//NONSGML kigkonsult.se iCalcreator 2.10.5//
CALSCALE:GREGORIAN
X-WR-TIMEZONE:Europe/Dublin
BEGIN:VTIMEZONE
TZID:Etc/GMT-1
BEGIN:STANDARD
DTSTART:20010101T000000
TZOFFSETFROM:+0100
TZOFFSETTO:+0100
TZNAME:GMT +01:00
END:STANDARD
END:VTIMEZONE
BEGIN:VEVENT
UID:20260422T133246CEST-8520cpPPpO@horsealert.local
DTSTAMP:20260422T110446Z
CATEGORIES:Horse Alerts
DESCRIPTION:B.A.R.K. Conditional Jockeys' Training Series Handicap Hurdle
DTSTART:20161022T172500
LOCATION:Scotland
SUMMARY:Horse Racing:B.A.R.K. Conditional Jockeys' Training Series Handicap
  Hurdle
END:VEVENT
END:VCALENDAR
