BEGIN:VCALENDAR
VERSION:2.0
PRODID:-//horsealert.local//NONSGML kigkonsult.se iCalcreator 2.10.5//
CALSCALE:GREGORIAN
X-WR-TIMEZONE:Europe/Dublin
BEGIN:VTIMEZONE
TZID:Etc/GMT-1
BEGIN:STANDARD
DTSTART:20010101T000000
TZOFFSETFROM:+0100
TZOFFSETTO:+0100
TZNAME:GMT +01:00
END:STANDARD
END:VTIMEZONE
BEGIN:VEVENT
UID:20260422T133319CEST-46532xtf3u@horsealert.local
DTSTAMP:20260422T110419Z
CATEGORIES:Horse Alerts
DESCRIPTION:Worthington's 'The Rushton And Bridge Family Together' EBF Stal
 lions Fillies' Handicap
DTSTART:20161022T170500
LOCATION:England
SUMMARY:Horse Racing:Worthington's 'The Rushton And Bridge Family Together'
  EBF Stallions Fillies' Handicap
END:VEVENT
END:VCALENDAR
