BEGIN:VCALENDAR
VERSION:2.0
PRODID:-//horsealert.local//NONSGML kigkonsult.se iCalcreator 2.10.5//
CALSCALE:GREGORIAN
X-WR-TIMEZONE:Europe/Dublin
BEGIN:VTIMEZONE
TZID:Etc/GMT-1
BEGIN:STANDARD
DTSTART:20010101T000000
TZOFFSETFROM:+0100
TZOFFSETTO:+0100
TZNAME:GMT +01:00
END:STANDARD
END:VTIMEZONE
BEGIN:VEVENT
UID:20260422T133407CEST-7172ovh60R@horsealert.local
DTSTAMP:20260422T110407Z
CATEGORIES:Horse Alerts
DESCRIPTION:JLT Stakes (Fillies' Listed) (Registered As The Radley Stakes)
DTSTART:20161022T152000
LOCATION:England
SUMMARY:Horse Racing:JLT Stakes (Fillies' Listed) (Registered As The Radley
  Stakes)
END:VEVENT
END:VCALENDAR
