BEGIN:VCALENDAR
VERSION:2.0
PRODID:-//horsealert.local//NONSGML kigkonsult.se iCalcreator 2.10.5//
CALSCALE:GREGORIAN
X-WR-TIMEZONE:Europe/Dublin
BEGIN:VTIMEZONE
TZID:Etc/GMT-1
BEGIN:STANDARD
DTSTART:20010101T000000
TZOFFSETFROM:+0100
TZOFFSETTO:+0100
TZNAME:GMT +01:00
END:STANDARD
END:VTIMEZONE
BEGIN:VEVENT
UID:20260422T133257CEST-3220oonJ2r@horsealert.local
DTSTAMP:20260422T110457Z
CATEGORIES:Horse Alerts
DESCRIPTION:Conundrum HR Consulting EBF Stallions Maiden Fillies' Stakes (P
 lus 10) (Div 1)
DTSTART:20161022T131500
LOCATION:England
SUMMARY:Horse Racing:Conundrum HR Consulting EBF Stallions Maiden Fillies' 
 Stakes (Plus 10) (Div 1)
END:VEVENT
END:VCALENDAR
